BEGIN:VCALENDAR
VERSION:2.0
PRODID:-//4Life - ECPv6.15.20//NONSGML v1.0//EN
CALSCALE:GREGORIAN
METHOD:PUBLISH
X-WR-CALNAME:4Life
X-ORIGINAL-URL:https://4life.net.br
X-WR-CALDESC:Eventos para 4Life
REFRESH-INTERVAL;VALUE=DURATION:PT1H
X-Robots-Tag:noindex
X-PUBLISHED-TTL:PT1H
BEGIN:VTIMEZONE
TZID:America/Sao_Paulo
BEGIN:STANDARD
TZOFFSETFROM:-0300
TZOFFSETTO:-0300
TZNAME:-03
DTSTART:20200101T000000
END:STANDARD
END:VTIMEZONE
BEGIN:VEVENT
DTSTART;VALUE=DATE:20241111
DTEND;VALUE=DATE:20241115
DTSTAMP:20260423T123257
CREATED:20231124T132446Z
LAST-MODIFIED:20250430T015029Z
UID:19485-1731283200-1731628799@4life.net.br
SUMMARY:Medica
DESCRIPTION:
URL:https://4life.net.br/evento/medica-2024/
LOCATION:Düsseldorf\, Alemanha
END:VEVENT
BEGIN:VEVENT
DTSTART;VALUE=DATE:20241002
DTEND;VALUE=DATE:20241005
DTSTAMP:20260423T123257
CREATED:20231124T131531Z
LAST-MODIFIED:20250430T015029Z
UID:19483-1727827200-1728086399@4life.net.br
SUMMARY:Eurospine
DESCRIPTION:
URL:https://4life.net.br/evento/eurospine-2024/
LOCATION:Viena\, Messeplatz 1\, Viena\, 1020\, Áustria
END:VEVENT
BEGIN:VEVENT
DTSTART;VALUE=DATE:20240925
DTEND;VALUE=DATE:20240929
DTSTAMP:20260423T123257
CREATED:20231124T133302Z
LAST-MODIFIED:20250430T015029Z
UID:19487-1727222400-1727567999@4life.net.br
SUMMARY:NASS Anual Meeting
DESCRIPTION:
URL:https://4life.net.br/evento/nass-2024/
LOCATION:Chicago\, Estados Unidos
END:VEVENT
BEGIN:VEVENT
DTSTART;VALUE=DATE:20240911
DTEND;VALUE=DATE:20240915
DTSTAMP:20260423T123257
CREATED:20231017T135240Z
LAST-MODIFIED:20260211T212233Z
UID:19465-1726012800-1726358399@4life.net.br
SUMMARY:SRS - Scoliosis Research Society - 2024
DESCRIPTION:
URL:https://4life.net.br/evento/srs-scoliosis-research-society-2024/
LOCATION:Centre de Convencions Internacional de Barcelona (CCIB)\, Plaça de Willy Brandt\, 11-14\, 08019\, Barcelona\, Espanha
END:VEVENT
BEGIN:VEVENT
DTSTART;VALUE=DATE:20240903
DTEND;VALUE=DATE:20240909
DTSTAMP:20260423T123257
CREATED:20240109T131733Z
LAST-MODIFIED:20250430T015029Z
UID:19582-1725321600-1725839999@4life.net.br
SUMMARY:CBN 2024
DESCRIPTION:
URL:https://4life.net.br/evento/cbn-2024/
LOCATION:Minascentro\, Av. Augusto de Lima\, 785\, Belo Horizonte\, Minas Gerais\, 30190-001\, Brasil
END:VEVENT
BEGIN:VEVENT
DTSTART;VALUE=DATE:20240830
DTEND;VALUE=DATE:20240901
DTSTAMP:20260423T123257
CREATED:20231017T132454Z
LAST-MODIFIED:20260211T212233Z
UID:19449-1724976000-1725148799@4life.net.br
SUMMARY:Técnicas Modernas e Avanços da Cirurgia de Coluna Vertebral - 2024
DESCRIPTION:
URL:https://4life.net.br/evento/tecnicas-modernas-e-avancos-da-cirurgia-de-coluna-vertebral-2024/
LOCATION:Hotel Royal Tulip JP\, Via Dr. Jeremias de Paula Martins\, 101\, Ribeirão Preto\, São Paulo\, 14097-142\, Brasil
END:VEVENT
BEGIN:VEVENT
DTSTART;VALUE=DATE:20240503
DTEND;VALUE=DATE:20240507
DTSTAMP:20260423T123257
CREATED:20231017T134103Z
LAST-MODIFIED:20260211T212233Z
UID:19454-1714694400-1715039999@4life.net.br
SUMMARY:AANS - 2024
DESCRIPTION:[vc_row][vc_column]\n		\n					\n					Evento Presencial			\n			\n[/vc_column][vc_column width=”1/2″][/vc_column][vc_column width=”1/2″][/vc_column][vc_column][/vc_column][/vc_row]
URL:https://4life.net.br/evento/aans-2024/
LOCATION:McCormick Place Convention Center\, 2301 S King Dr\, Chicago\, IL 60616\, Chicago\, Illinois\, Estados Unidos
END:VEVENT
BEGIN:VEVENT
DTSTART;VALUE=DATE:20240306
DTEND;VALUE=DATE:20240310
DTSTAMP:20260423T123257
CREATED:20231017T132646Z
LAST-MODIFIED:20260211T212233Z
UID:19451-1709683200-1710028799@4life.net.br
SUMMARY:CBC - Congresso Brasileiro de Coluna - 2024
DESCRIPTION:
URL:https://4life.net.br/evento/cbc-congresso-brasileiro-de-coluna-2024/
LOCATION:Complexo RioMar\, Av. República do Líbano\, 251 Pina\, Recife\, Pernambuco\, Brasil
END:VEVENT
BEGIN:VEVENT
DTSTART;VALUE=DATE:20240221
DTEND;VALUE=DATE:20240225
DTSTAMP:20260423T123257
CREATED:20240202T123648Z
LAST-MODIFIED:20250430T015029Z
UID:19627-1708473600-1708819199@4life.net.br
SUMMARY:BRNEURO
DESCRIPTION:
URL:https://4life.net.br/evento/brneuro/
LOCATION:Laboratório Marc\, 8850 NW 20th St\, Doral\, Miami\, Flórida\, 33172\, Estados Unidos
END:VEVENT
BEGIN:VEVENT
DTSTART;VALUE=DATE:20240212
DTEND;VALUE=DATE:20240217
DTSTAMP:20260423T123257
CREATED:20231017T134648Z
LAST-MODIFIED:20260211T212233Z
UID:19460-1707696000-1708127999@4life.net.br
SUMMARY:AAOS - 2024
DESCRIPTION:
URL:https://4life.net.br/evento/aaos-2024/
LOCATION:Moscone Center\, 747 Howard St\, San Francisco\, CA 94103\, São Francisco\, Califórnia
END:VEVENT
BEGIN:VEVENT
DTSTART;TZID=America/Sao_Paulo:20231018T080000
DTEND;TZID=America/Sao_Paulo:20231021T170000
DTSTAMP:20260423T123257
CREATED:20221205T131632Z
LAST-MODIFIED:20250430T015029Z
UID:19074-1697616000-1697907600@4life.net.br
SUMMARY:NASS Anual Meeting
DESCRIPTION:
URL:https://4life.net.br/evento/nass-2023/
LOCATION:Los Angeles\, Los Angeles\, Califórnia\, Estados Unidos
END:VEVENT
BEGIN:VEVENT
DTSTART;TZID=America/Sao_Paulo:20231004T080000
DTEND;TZID=America/Sao_Paulo:20231006T170000
DTSTAMP:20260423T123257
CREATED:20221205T131041Z
LAST-MODIFIED:20250430T015029Z
UID:19071-1696406400-1696611600@4life.net.br
SUMMARY:Eurospine
DESCRIPTION:
URL:https://4life.net.br/evento/eurospine-2023/
LOCATION:Frankfurt\, Frankfurt\, Alemanha
END:VEVENT
BEGIN:VEVENT
DTSTART;TZID=America/Sao_Paulo:20230927T080000
DTEND;TZID=America/Sao_Paulo:20231001T170000
DTSTAMP:20260423T123257
CREATED:20221011T190122Z
LAST-MODIFIED:20250430T015029Z
UID:19013-1695801600-1696179600@4life.net.br
SUMMARY:CBN 2023
DESCRIPTION:
URL:https://4life.net.br/evento/cbn-2023/
LOCATION:Centro de Convenções Frei Caneca\, R. Frei Caneca\, 569\, São Paulo\, São Paulo\, 01307-001
END:VEVENT
BEGIN:VEVENT
DTSTART;TZID=America/Sao_Paulo:20230926T080000
DTEND;TZID=America/Sao_Paulo:20231001T170000
DTSTAMP:20260423T123257
CREATED:20221205T130321Z
LAST-MODIFIED:20250430T015029Z
UID:19069-1695715200-1696179600@4life.net.br
SUMMARY:XXXIV Congresso Brasileiro de Neurocirurgia
DESCRIPTION:
URL:https://4life.net.br/evento/xxxiv-congresso-brasileiro-de-neurocirurgia/
LOCATION:Centro de Convenções Frei Caneca\, R. Frei Caneca\, 569\, São Paulo\, São Paulo\, 01307-001
END:VEVENT
BEGIN:VEVENT
DTSTART;TZID=America/Sao_Paulo:20230825T080000
DTEND;TZID=America/Sao_Paulo:20230826T170000
DTSTAMP:20260423T123257
CREATED:20221205T130100Z
LAST-MODIFIED:20250430T015029Z
UID:19067-1692950400-1693069200@4life.net.br
SUMMARY:Técnicas Modernas e Avanços na Cirurgia da Coluna Vertebral
DESCRIPTION:
URL:https://4life.net.br/evento/tecnicas-modernas-e-avancos-na-cirurgia-da-coluna-vertebral/
LOCATION:Hotel Royal Tulip JP\, Via Dr. Jeremias de Paula Martins\, 101\, Ribeirão Preto\, São Paulo\, 14097-142\, Brasil
END:VEVENT
BEGIN:VEVENT
DTSTART;TZID=America/Sao_Paulo:20230323T080000
DTEND;TZID=America/Sao_Paulo:20230324T170000
DTSTAMP:20260423T123257
CREATED:20221205T125738Z
LAST-MODIFIED:20250430T015029Z
UID:19065-1679558400-1679677200@4life.net.br
SUMMARY:Cirurgia Espinhal
DESCRIPTION:
URL:https://4life.net.br/evento/cirurgia-espinhal/
LOCATION:Tivoli Mofarrej Hotel\, Alameda Santos\, 1437\, São Paulo\, São Paulo\, 01419-001\, Brasil
END:VEVENT
BEGIN:VEVENT
DTSTART;VALUE=DATE:20221019
DTEND;VALUE=DATE:20221022
DTSTAMP:20260423T123257
CREATED:20210916T171322Z
LAST-MODIFIED:20250430T015029Z
UID:17420-1666137600-1666396799@4life.net.br
SUMMARY:Eurospine
DESCRIPTION:
URL:https://4life.net.br/evento/eurospine-2022/
LOCATION:Milão\, Itália
END:VEVENT
BEGIN:VEVENT
DTSTART;VALUE=DATE:20221012
DTEND;VALUE=DATE:20221016
DTSTAMP:20260423T123257
CREATED:20210622T193212Z
LAST-MODIFIED:20250430T015029Z
UID:10685-1665532800-1665878399@4life.net.br
SUMMARY:NASS
DESCRIPTION:
URL:https://4life.net.br/evento/nass-2022/
LOCATION:Chicago\, Estados Unidos
END:VEVENT
BEGIN:VEVENT
DTSTART;VALUE=DATE:20220826
DTEND;VALUE=DATE:20220828
DTSTAMP:20260423T123257
CREATED:20220303T212422Z
LAST-MODIFIED:20250430T015029Z
UID:18755-1661472000-1661644799@4life.net.br
SUMMARY:Técnicas Modernas e Avanços da Cirurgia de Coluna Vertebral
DESCRIPTION:
URL:https://4life.net.br/evento/tecnicas-modernas-e-avancos-da-cirurgia-de-coluna-vertebral/
LOCATION:Hotel Royal Tulip JP\, Via Dr. Jeremias de Paula Martins\, 101\, Ribeirão Preto\, São Paulo\, 14097-142\, Brasil
END:VEVENT
BEGIN:VEVENT
DTSTART;VALUE=DATE:20220804
DTEND;VALUE=DATE:20220806
DTSTAMP:20260423T123257
CREATED:20220512T130002Z
LAST-MODIFIED:20250430T015029Z
UID:18821-1659571200-1659743999@4life.net.br
SUMMARY:Congresso Brasileiro de Cirurgia Espinhal
DESCRIPTION:
URL:https://4life.net.br/evento/congresso-brasileiro-de-cirurgia-espinhal/
LOCATION:Tivoli Mofarrej Hotel\, Alameda Santos\, 1437\, São Paulo\, São Paulo\, 01419-001\, Brasil
END:VEVENT
BEGIN:VEVENT
DTSTART;VALUE=DATE:20220511
DTEND;VALUE=DATE:20220515
DTSTAMP:20260423T123257
CREATED:20220303T211826Z
LAST-MODIFIED:20250430T015029Z
UID:18752-1652227200-1652572799@4life.net.br
SUMMARY:CBC - Congresso Brasileiro de Coluna
DESCRIPTION:
URL:https://4life.net.br/evento/cbc-congresso-brasileiro-de-coluna/
LOCATION:Ceará\, Fortaleza\, Ceará\, Brasil
END:VEVENT
BEGIN:VEVENT
DTSTART;VALUE=DATE:20220429
DTEND;VALUE=DATE:20220503
DTSTAMP:20260423T123257
CREATED:20210802T170950Z
LAST-MODIFIED:20250430T015029Z
UID:12867-1651190400-1651535999@4life.net.br
SUMMARY:AANS 2022
DESCRIPTION:[vc_row][vc_column]\n		\n					\n					Evento Presencial			\n			\n[/vc_column][vc_column width=”1/2″][/vc_column][vc_column width=”1/2″][/vc_column][vc_column][/vc_column][/vc_row]
URL:https://4life.net.br/evento/aans-2022/
LOCATION:Filadélfia\, Estados Unidos
END:VEVENT
BEGIN:VEVENT
DTSTART;TZID=America/Sao_Paulo:20220420T080000
DTEND;TZID=America/Sao_Paulo:20220424T170000
DTSTAMP:20260423T123257
CREATED:20210622T193632Z
LAST-MODIFIED:20250430T015029Z
UID:10690-1650441600-1650819600@4life.net.br
SUMMARY:CBN - Congresso Brasileiro de Neurocirurgia
DESCRIPTION:
URL:https://4life.net.br/evento/congresso-brasileiro-de-neurocirurgia/
LOCATION:Centro de Convenções de João Pessoa\, Rodovia PB-008\, Km 5 s/n Polo Turístico - Cabo Branco\, JOÃO PESSOA\, PARAÍBA\, 58000-000\, Brasil
END:VEVENT
BEGIN:VEVENT
DTSTART;VALUE=DATE:20220322
DTEND;VALUE=DATE:20220327
DTSTAMP:20260423T123257
CREATED:20210804T195345Z
LAST-MODIFIED:20250430T015029Z
UID:13470-1647907200-1648339199@4life.net.br
SUMMARY:AAOS 2022
DESCRIPTION:
URL:https://4life.net.br/evento/aaos-2021/
LOCATION:Chicago\, Estados Unidos
END:VEVENT
BEGIN:VEVENT
DTSTART;VALUE=DATE:20220204
DTEND;VALUE=DATE:20220209
DTSTAMP:20260423T123257
CREATED:20210916T171620Z
LAST-MODIFIED:20250430T015029Z
UID:17422-1643932800-1644364799@4life.net.br
SUMMARY:SRS - Scoliosis Research Society
DESCRIPTION:
URL:https://4life.net.br/evento/srs-scoliosis-research-society/
LOCATION:Florida\, Tampa\, Estados Unidos
END:VEVENT
BEGIN:VEVENT
DTSTART;TZID=America/Sao_Paulo:20211125T080000
DTEND;TZID=America/Sao_Paulo:20211127T170000
DTSTAMP:20260423T123257
CREATED:20210916T175647Z
LAST-MODIFIED:20250430T015029Z
UID:17431-1637827200-1638032400@4life.net.br
SUMMARY:Congresso Anual SBOT 2021
DESCRIPTION:
URL:https://4life.net.br/evento/congresso-anual-sbot-2021/
LOCATION:São Paulo
END:VEVENT
BEGIN:VEVENT
DTSTART;VALUE=DATE:20211115
DTEND;VALUE=DATE:20211119
DTSTAMP:20260423T123257
CREATED:20210916T172348Z
LAST-MODIFIED:20250430T015029Z
UID:17425-1636934400-1637279999@4life.net.br
SUMMARY:Medica
DESCRIPTION:
URL:https://4life.net.br/evento/medica-2021/
LOCATION:Düsseldorf\, Alemanha
END:VEVENT
BEGIN:VEVENT
DTSTART;TZID=America/Sao_Paulo:20210826T080000
DTEND;TZID=America/Sao_Paulo:20210828T170000
DTSTAMP:20260423T123257
CREATED:20210916T174202Z
LAST-MODIFIED:20250430T015029Z
UID:17428-1629964800-1630170000@4life.net.br
SUMMARY:Shouder Closed Meeting
DESCRIPTION:
URL:https://4life.net.br/evento/shoulder-closed-meeting/
LOCATION:Mangaratiba\, RIO DE JANEIRO\, Brasil
END:VEVENT
BEGIN:VEVENT
DTSTART;VALUE=DATE:20210820
DTEND;VALUE=DATE:20210822
DTSTAMP:20260423T123257
CREATED:20210804T133702Z
LAST-MODIFIED:20250430T015029Z
UID:13297-1629417600-1629590399@4life.net.br
SUMMARY:Técnicas Modernas e Avanços da Cirurgia de Coluna Vertebral
DESCRIPTION:[vc_row css=”.vc_custom_1628089240983{margin-bottom: 50px !important;}”][vc_column css=”.vc_custom_1628089264023{margin-bottom: 50px !important;}”]\n		\n					\n					Evento Online			\n			\n		Produtos em exposição em parceiro Fusão e Angel Care	 \n	\n[vc_empty_space height=”50px”][/vc_column][vc_column width=”2/3″]\n		\n					\n					Programação			\n			\n[vc_empty_space height=”20px”][vc_column_text]09:00 – 09:10 – Abertura\n09:10 – 09:30 – Diagnóstico diferencial da dor ciática – R. Gunzburg (Bélgica)\n09:30 – 10:00 – Prótese de disco intervertebral – Conceitos atuais – S. Blumenthal (USA)\n10:00 – 10:30 – Nanotecnologia na cirurgia de coluna vertebral – M. Szpalsky (Bélgica)\n10:30 – 11:00 – Hastes de crescimento – Conceitos atuais – Miladi (França)\n11:00 – 11:15 – Tratamento conservador da escoliose – Conceitos atuais – SBC\n11:15 – 11:30 – Tratamento conservador da escoliose de início precoce – SBC\n11:30 – 11:45 – Novas opções para fixação vertebral posterior – Parafuso cortical – M. Burdi (EUA)\n11:45 – 12:00 – Cirurgia Endoscópica da coluna vertebral – A. Dowsing (Chile)\n12:00 – 12:15 – Discussão\n12:15 – Encerramento[/vc_column_text][/vc_column][vc_column width=”1/3″]\n		\n					\n					Convidados Internacionais			\n			\n[vc_empty_space height=”20px”][vc_column_text]R. Gunzburg – Bélgica\nS. Blumenthal – USA\nM. Szpalsky – Bélgica\nMiladi – França\nM. Burdi – USA\nÁlvaro Dowling – Chile[/vc_column_text][/vc_column][vc_column][vc_empty_space height=”50px”][/vc_column][/vc_row]
URL:https://4life.net.br/evento/tecnicas-modernas-e-avancos-da-cirurgia-de-coluna-vertebral-evento-online/
LOCATION:São Paulo
ORGANIZER;CN="Departamento de Ortopedia e Anestesiologia da FMRP - USP":MAILTO:fatimaortopedia@gmail.com
END:VEVENT
END:VCALENDAR